BEGIN:VCALENDAR
VERSION:2.0
PRODID:-//Priorswood Parish - ECPv6.15.18//NONSGML v1.0//EN
CALSCALE:GREGORIAN
METHOD:PUBLISH
X-ORIGINAL-URL:https://priorswoodparish.ie
X-WR-CALDESC:Events for Priorswood Parish
REFRESH-INTERVAL;VALUE=DURATION:PT1H
X-Robots-Tag:noindex
X-PUBLISHED-TTL:PT1H
BEGIN:VTIMEZONE
TZID:Europe/Dublin
BEGIN:STANDARD
TZOFFSETFROM:+0000
TZOFFSETTO:+0100
TZNAME:IST
DTSTART:20240331T010000
END:STANDARD
BEGIN:DAYLIGHT
TZOFFSETFROM:+0100
TZOFFSETTO:+0000
TZNAME:GMT
DTSTART:20241027T010000
END:DAYLIGHT
BEGIN:STANDARD
TZOFFSETFROM:+0000
TZOFFSETTO:+0100
TZNAME:IST
DTSTART:20250330T010000
END:STANDARD
BEGIN:DAYLIGHT
TZOFFSETFROM:+0100
TZOFFSETTO:+0000
TZNAME:GMT
DTSTART:20251026T010000
END:DAYLIGHT
BEGIN:STANDARD
TZOFFSETFROM:+0000
TZOFFSETTO:+0100
TZNAME:IST
DTSTART:20260329T010000
END:STANDARD
BEGIN:DAYLIGHT
TZOFFSETFROM:+0100
TZOFFSETTO:+0000
TZNAME:GMT
DTSTART:20261025T010000
END:DAYLIGHT
END:VTIMEZONE
BEGIN:VEVENT
DTSTART;TZID=Europe/Dublin:20250112T123000
DTEND;TZID=Europe/Dublin:20250112T130000
DTSTAMP:20260419T132933
CREATED:20250105T103255Z
LAST-MODIFIED:20250105T103807Z
UID:10000014-1736685000-1736686800@priorswoodparish.ie
SUMMARY:Baptism Date Booked
DESCRIPTION:
URL:https://priorswoodparish.ie/event/baptism-emmy-esther-olaegbe/
LOCATION:St Francis of Assisi Church\, Clonshaugh Drive\, Priorswood\, D17V656\, Ireland
END:VEVENT
BEGIN:VEVENT
DTSTART;TZID=Europe/Dublin:20250118T110000
DTEND;TZID=Europe/Dublin:20250118T113000
DTSTAMP:20260419T132933
CREATED:20250105T103502Z
LAST-MODIFIED:20250105T103854Z
UID:10000015-1737198000-1737199800@priorswoodparish.ie
SUMMARY:Baptism Date Booked
DESCRIPTION:
URL:https://priorswoodparish.ie/event/baptism-cian-junior-cj-odonnell/
LOCATION:St Francis of Assisi Church\, Clonshaugh Drive\, Priorswood\, D17V656\, Ireland
END:VEVENT
BEGIN:VEVENT
DTSTART;TZID=Europe/Dublin:20250119T123000
DTEND;TZID=Europe/Dublin:20250119T130000
DTSTAMP:20260419T132933
CREATED:20250105T105426Z
LAST-MODIFIED:20250105T105427Z
UID:10000017-1737289800-1737291600@priorswoodparish.ie
SUMMARY:Baptism Date Available
DESCRIPTION:
URL:https://priorswoodparish.ie/event/baptism-date-available/
LOCATION:St Francis of Assisi Church\, Clonshaugh Drive\, Priorswood\, D17V656\, Ireland
END:VEVENT
BEGIN:VEVENT
DTSTART;TZID=Europe/Dublin:20250125T110000
DTEND;TZID=Europe/Dublin:20250125T113000
DTSTAMP:20260419T132933
CREATED:20250105T104019Z
LAST-MODIFIED:20250105T104020Z
UID:10000016-1737802800-1737804600@priorswoodparish.ie
SUMMARY:Baptism Date Booked
DESCRIPTION:
URL:https://priorswoodparish.ie/event/baptism-date-booked/
LOCATION:St Francis of Assisi Church\, Clonshaugh Drive\, Priorswood\, D17V656\, Ireland
END:VEVENT
BEGIN:VEVENT
DTSTART;TZID=Europe/Dublin:20250126T123000
DTEND;TZID=Europe/Dublin:20250126T130000
DTSTAMP:20260419T132933
CREATED:20250105T105520Z
LAST-MODIFIED:20250105T105520Z
UID:10000018-1737894600-1737896400@priorswoodparish.ie
SUMMARY:Baptism Date Available
DESCRIPTION:
URL:https://priorswoodparish.ie/event/baptism-date-available-2/
LOCATION:St Francis of Assisi Church\, Clonshaugh Drive\, Priorswood\, D17V656\, Ireland
END:VEVENT
END:VCALENDAR